BEGIN:VCALENDAR
PRODID:-//eluceo/ical//2.0/EN
VERSION:2.0
CALSCALE:GREGORIAN
BEGIN:VEVENT
UID:320e8846c08f85107ebe6e1d82fbf707
DTSTAMP:20260421T132518Z
SUMMARY:UJA Major Gifts By Invitation Only
DESCRIPTION:UJA Federation of Greater Toronto\nJewish Toronto Calendar\nhtt
 ps://jewishtoronto.com/calendar/uja-major-gifts-by-invitation-only\n\nUJA 
 Major Gifts presents one of many By Invitation Only events.\n\nMore inform
 ation to come. 
DTSTART;TZID=America/Toronto:20211014T000000
DTEND;TZID=America/Toronto:20211014T235959
END:VEVENT
END:VCALENDAR
