BEGIN:VCALENDAR
PRODID:-//eluceo/ical//2.0/EN
VERSION:2.0
CALSCALE:GREGORIAN
BEGIN:VEVENT
UID:02867be7c880c56018671ba31f30a038
DTSTAMP:20260422T120039Z
SUMMARY:UJA: Living Room Legacies
DESCRIPTION:UJA Federation of Greater Toronto\nJewish Toronto Calendar\nhtt
 ps://jewishtoronto.com/calendar/uja-living-room-legacies\n\nMore details t
 o follow. 
DTSTART;TZID=America/Toronto:20220130T190000
DTEND;TZID=America/Toronto:20220130T210000
END:VEVENT
END:VCALENDAR
