BEGIN:VCALENDAR
PRODID:-//eluceo/ical//2.0/EN
VERSION:2.0
CALSCALE:GREGORIAN
BEGIN:VEVENT
UID:0d9a1818c7915f50dc9b409747966191
DTSTAMP:20260426T015825Z
SUMMARY:UJA | Littlest Volunteer Kick-Off
DESCRIPTION:UJA Federation of Greater Toronto\nJewish Toronto Calendar\nhtt
 ps://jewishtoronto.com/calendar/uja-littlest-volunteer-kick-off-2025\n\nUJ
 A's Littlest Volunteer Kick-Off event.
DTSTART;TZID=America/Toronto:20251109T100000
DTEND;TZID=America/Toronto:20251109T120000
END:VEVENT
END:VCALENDAR
