BEGIN:VCALENDAR
PRODID:-//eluceo/ical//2.0/EN
VERSION:2.0
CALSCALE:GREGORIAN
BEGIN:VEVENT
UID:9cbc936d0300fabd1169db9eabc6ade3
DTSTAMP:20260420T222601Z
SUMMARY:UJA Lion of Judah Event
DESCRIPTION:UJA Federation of Greater Toronto\nJewish Toronto Calendar\nhtt
 ps://jewishtoronto.com/calendar/uja-lion-of-judah-event\n\nThis is a priva
 te event. 
DTSTART;TZID=America/Toronto:20220810T000000
DTEND;TZID=America/Toronto:20220810T235959
END:VEVENT
END:VCALENDAR
