BEGIN:VCALENDAR
PRODID:-//eluceo/ical//2.0/EN
VERSION:2.0
CALSCALE:GREGORIAN
BEGIN:VEVENT
UID:45a9b633c569d284c7200e457c9507c3
DTSTAMP:20260423T131039Z
SUMMARY:UJA | CIJA Legal Conference 2022
DESCRIPTION:UJA Federation of Greater Toronto\nJewish Toronto Calendar\nhtt
 ps://jewishtoronto.com/calendar/uja-legal-conference-with-cija\n\nRegister
  for this event here: https://legalperspectives.ca/  \n\nThis is a virt
 ual event. 
DTSTART;TZID=America/Toronto:20220215T100000
DTEND;TZID=America/Toronto:20220215T173000
END:VEVENT
END:VCALENDAR
