BEGIN:VCALENDAR
PRODID:-//eluceo/ical//2.0/EN
VERSION:2.0
CALSCALE:GREGORIAN
BEGIN:VEVENT
UID:fc834c4ed828a23d3db988cd3e4c1da1
DTSTAMP:20260421T092116Z
SUMMARY:UJA Leadership retreat
DESCRIPTION:UJA Federation of Greater Toronto\nJewish Toronto Calendar\nhtt
 ps://jewishtoronto.com/calendar/uja-leadership-retreat\n\nVenue\; TBD
DTSTART;TZID=America/Toronto:20150709T120000
DTEND;TZID=America/Toronto:20150709T170000
END:VEVENT
END:VCALENDAR
