BEGIN:VCALENDAR
PRODID:-//eluceo/ical//2.0/EN
VERSION:2.0
CALSCALE:GREGORIAN
BEGIN:VEVENT
UID:959d3f89b5cf4b7dded510a80a9d95d7
DTSTAMP:20260420T094354Z
SUMMARY:UJA L'Chaim\, L'Challah! A OneTable Shabbat Experience
DESCRIPTION:UJA Federation of Greater Toronto\nJewish Toronto Calendar\nhtt
 ps://jewishtoronto.com/calendar/uja-lchaim-lchallah-a-onetable-shabbat-exp
 erience\n\nWhat to Expect\n\nOn Friday\, April 5\, you’re invited to a n
 ew kind of Shabbat experience hosted by OneTable at Third Place.\n\nWe’r
 e celebrating our recent launch of OneTable Toronto (OneTable’s first-ev
 er Canadian hub!) and are so excited to expand our presence in Toronto tog
 ether. Help us usher in Shabbat Ha’Malka (the Shabbat queen) with OneTab
 le’s very own Queen of the [Friday] Night\, drag performer Josie!\n\nJoi
 n us as we unwind\, connect\, and nosh over delectable bites\, classic...
DTSTART;TZID=America/Toronto:20240405T183000
DTEND;TZID=America/Toronto:20240405T220000
END:VEVENT
END:VCALENDAR
