BEGIN:VCALENDAR
PRODID:-//eluceo/ical//2.0/EN
VERSION:2.0
CALSCALE:GREGORIAN
BEGIN:VEVENT
UID:4bdec6ca64ca6a775f578cb4a86ff546
DTSTAMP:20260423T142440Z
SUMMARY:UJA Lawyers Division Briefing Breakfast
DESCRIPTION:UJA Federation of Greater Toronto\nJewish Toronto Calendar\nhtt
 ps://jewishtoronto.com/calendar/uja-lawyers-division-briefing-breakfast-15
 64755629\n\nUJA Lawyers Division Briefing Breakfast
DTSTART;TZID=America/Toronto:20190924T073000
DTEND;TZID=America/Toronto:20190924T090000
END:VEVENT
END:VCALENDAR
