BEGIN:VCALENDAR
PRODID:-//eluceo/ical//2.0/EN
VERSION:2.0
CALSCALE:GREGORIAN
BEGIN:VEVENT
UID:f2dc9aa6faba47a58f72d0c378b22ee8
DTSTAMP:20260425T010742Z
SUMMARY:UJA Joshua Institute Future Leaders Program
DESCRIPTION:UJA Federation of Greater Toronto\nJewish Toronto Calendar\nhtt
 ps://jewishtoronto.com/calendar/uja-joshua-institute-future-leaders-progra
 m-1460125412\n\nUJA Joshua Institute Future Leaders Program
DTSTART;TZID=America/Toronto:20170323T180000
DTEND;TZID=America/Toronto:20170323T210000
END:VEVENT
END:VCALENDAR
