BEGIN:VCALENDAR
PRODID:-//eluceo/ical//2.0/EN
VERSION:2.0
CALSCALE:GREGORIAN
BEGIN:VEVENT
UID:f9395caf70f5034c2a76dbb4f6ad82c3
DTSTAMP:20260423T212649Z
SUMMARY:UJA Joshua Institute Future Leaders Program
DESCRIPTION:UJA Federation of Greater Toronto\nJewish Toronto Calendar\nhtt
 ps://jewishtoronto.com/calendar/uja-joshua-institute-future-leaders-progra
 m-1460125170\n\nUJA Joshua Institute Future Leaders Program
DTSTART;TZID=America/Toronto:20170119T180000
DTEND;TZID=America/Toronto:20170119T210000
END:VEVENT
END:VCALENDAR
