BEGIN:VCALENDAR
PRODID:-//eluceo/ical//2.0/EN
VERSION:2.0
CALSCALE:GREGORIAN
BEGIN:VEVENT
UID:56b3f5de59d9124202d2b66ff0d80ad7
DTSTAMP:20260424T115632Z
SUMMARY:UJA Jewish Foundation Investment Committee Meeting
DESCRIPTION:UJA Federation of Greater Toronto\nJewish Toronto Calendar\nhtt
 ps://jewishtoronto.com/calendar/uja-jewish-foundation-investment-committee
 -meeting\n\nJewish Foundation Investment Committee Meeting
DTSTART;TZID=America/Toronto:20160512T120000
DTEND;TZID=America/Toronto:20160512T140000
END:VEVENT
END:VCALENDAR
