BEGIN:VCALENDAR
PRODID:-//eluceo/ical//2.0/EN
VERSION:2.0
CALSCALE:GREGORIAN
BEGIN:VEVENT
UID:7fd75cdf3b3e79d6a835e9fcf3035f7d
DTSTAMP:20260419T193125Z
SUMMARY:UJA Market & Investment Outlook 2022
DESCRIPTION:UJA Federation of Greater Toronto\nJewish Toronto Calendar\nhtt
 ps://jewishtoronto.com/calendar/uja-investment-market-outlook-2022\n\nPlea
 se join the Jewish Foundation for an exclusive online event: Market & Inv
 estment Outlook 2022.\n\nAt this session you will have the opportunity to
  hear from Mark Caplan\, Chair\, Investment Advisory Committee\, and Texas
  Hemmaplardh\, Partner\, Pavilion\, a Mercer Practice\, whose investment p
 ractice focuses on foundation clients.\n\nMark and Texas will share their 
 insights on the global economy\, the impact of COVID-19 and its effect 
 on the Foundation’s portfolio and strategy\, as well as ...
DTSTART;TZID=America/Toronto:20220119T120000
DTEND;TZID=America/Toronto:20220119T130000
END:VEVENT
END:VCALENDAR
