BEGIN:VCALENDAR
PRODID:-//eluceo/ical//2.0/EN
VERSION:2.0
CALSCALE:GREGORIAN
BEGIN:VEVENT
UID:d7d4f1c15281bebac6b7b0524c6a0372
DTSTAMP:20260421T174410Z
SUMMARY:UJA HOLD | Southern Hospitality PLG Event
DESCRIPTION:UJA Federation of Greater Toronto\nJewish Toronto Calendar\nhtt
 ps://jewishtoronto.com/calendar/uja-hold-southern-hospitality-plg-event\n\
 nUJA HOLD | Southern Hospitality PLG Event. 
DTSTART;TZID=America/Toronto:20270209T180000
DTEND;TZID=America/Toronto:20270209T210000
END:VEVENT
END:VCALENDAR
