BEGIN:VCALENDAR
PRODID:-//eluceo/ical//2.0/EN
VERSION:2.0
CALSCALE:GREGORIAN
BEGIN:VEVENT
UID:7d7e8bda2e8e54e5340a2dc2a4a49bda
DTSTAMP:20260424T134635Z
SUMMARY:UJA Hineni Gathering
DESCRIPTION:UJA Federation of Greater Toronto\nJewish Toronto Calendar\nhtt
 ps://jewishtoronto.com/calendar/uja-hineni-gathering-1579011363\n\nUJA Hin
 eni Gathering
DTSTART;TZID=America/Toronto:20200708T180000
DTEND;TZID=America/Toronto:20200708T220000
END:VEVENT
END:VCALENDAR
