BEGIN:VCALENDAR
PRODID:-//eluceo/ical//2.0/EN
VERSION:2.0
CALSCALE:GREGORIAN
BEGIN:VEVENT
UID:325aa114236bc8b456f8784dfb40317c
DTSTAMP:20260420T051555Z
SUMMARY:UJA Hineni 2015
DESCRIPTION:UJA Federation of Greater Toronto\nJewish Toronto Calendar\nhtt
 ps://jewishtoronto.com/calendar/uja-hineni-2015-1\n\nVenue: Private home
DTSTART;TZID=America/Toronto:20150708T180000
DTEND;TZID=America/Toronto:20150708T210000
END:VEVENT
END:VCALENDAR
