BEGIN:VCALENDAR
PRODID:-//eluceo/ical//2.0/EN
VERSION:2.0
CALSCALE:GREGORIAN
BEGIN:VEVENT
UID:69449eb0695805a4081516e12462338a
DTSTAMP:20260422T092050Z
SUMMARY:UJA Healthcare Division: Mental Health Series with Dr. Marla Shapir
 o
DESCRIPTION:UJA Federation of Greater Toronto\nJewish Toronto Calendar\nhtt
 ps://jewishtoronto.com/calendar/uja-healthcare-event-in-conversation-with-
 dr-marla-shapiro-cm\n\nUJA presents a series of webinars on mental health 
 with Dr. Marla Shapiro.    
DTSTART;TZID=America/Toronto:20210118T193000
DTEND;TZID=America/Toronto:20210118T213000
END:VEVENT
END:VCALENDAR
