BEGIN:VCALENDAR
PRODID:-//eluceo/ical//2.0/EN
VERSION:2.0
CALSCALE:GREGORIAN
BEGIN:VEVENT
UID:866ddee558d2327deb1fb7cf4022e0de
DTSTAMP:20260422T160847Z
SUMMARY:UJA Health Care Professional Division Event
DESCRIPTION:UJA Federation of Greater Toronto\nJewish Toronto Calendar\nhtt
 ps://jewishtoronto.com/calendar/uja-health-care-professional-division-even
 t\n\nInvitational Event for young professionals in Health Care. 
DTSTART;TZID=America/Toronto:20200513T180000
DTEND;TZID=America/Toronto:20200513T200000
END:VEVENT
END:VCALENDAR
