BEGIN:VCALENDAR
PRODID:-//eluceo/ical//2.0/EN
VERSION:2.0
CALSCALE:GREGORIAN
BEGIN:VEVENT
UID:b6bca8a8e6adf4074db2d4b74c6b74b9
DTSTAMP:20260420T141818Z
SUMMARY:UJA Health Care Event: In Conversation with Dr Marla Shapiro C.M.
DESCRIPTION:UJA Federation of Greater Toronto\nJewish Toronto Calendar\nhtt
 ps://jewishtoronto.com/calendar/uja-health-care-event\n\nRegister here: h
 ttps://jewishtoronto.com/events/how-we-find-certainty-in-uncertain-times-c
 anada \n\nFor more information or to submit questions in advance\, email 
 Lana Liss at lliss@ujafed.org\n\n\n\n\nUJA Health Care Professional Divis
 ion Presents: In Conversation with Dr. Marla Shapiro C.M. & Guests\n\n \n
 \nHow We Find Certainty in Uncertain Times\n\n \n\nPlease join UJA’s He
 alth Care division and Dr. Marla Shapiro C.M. for the first in a series of
  three highly informative and engagin...
DTSTART;TZID=America/Toronto:20201116T193000
DTEND;TZID=America/Toronto:20201116T203000
END:VEVENT
END:VCALENDAR
