BEGIN:VCALENDAR
PRODID:-//eluceo/ical//2.0/EN
VERSION:2.0
CALSCALE:GREGORIAN
BEGIN:VEVENT
UID:6ad3dc1f6d94597ae039de3a19438029
DTSTAMP:20260423T221757Z
SUMMARY: UJA Golf Classic 2015
DESCRIPTION:UJA Federation of Greater Toronto\nJewish Toronto Calendar\nhtt
 ps://jewishtoronto.com/calendar/uja-golf-classic-2015\n\n UJA Golf Classi
 c 2015 - Monday\, August 31\, 2015 - Coppinwood golf Club\n\nInfo and regi
 stration on UJA Golf Classic website.
DTSTART;TZID=America/Toronto:20150831T100000
DTEND;TZID=America/Toronto:20150831T200000
END:VEVENT
END:VCALENDAR
