BEGIN:VCALENDAR
PRODID:-//eluceo/ical//2.0/EN
VERSION:2.0
CALSCALE:GREGORIAN
BEGIN:VEVENT
UID:2108342631f5afccb3be327021af691e
DTSTAMP:20260421T173354Z
SUMMARY:UJA Golf Classic
DESCRIPTION:UJA Federation of Greater Toronto\nJewish Toronto Calendar\nhtt
 ps://jewishtoronto.com/calendar/uja-golf-classic\n\nUJA Golf Classic 
DTSTART;TZID=America/Toronto:20170828T083000
DTEND;TZID=America/Toronto:20170828T210000
END:VEVENT
END:VCALENDAR
