BEGIN:VCALENDAR
PRODID:-//eluceo/ical//2.0/EN
VERSION:2.0
CALSCALE:GREGORIAN
BEGIN:VEVENT
UID:63298cbd58e904935984885a6a94fead
DTSTAMP:20260420T032433Z
SUMMARY:UJA Genesis: We Got Your Back Event
DESCRIPTION:UJA Federation of Greater Toronto\nJewish Toronto Calendar\nhtt
 ps://jewishtoronto.com/calendar/uja-genesis-we-got-your-back-event\n\nDeta
 ils to follow. 
DTSTART;TZID=America/Toronto:20220824T090000
DTEND;TZID=America/Toronto:20220824T170000
END:VEVENT
END:VCALENDAR
