BEGIN:VCALENDAR
PRODID:-//eluceo/ical//2.0/EN
VERSION:2.0
CALSCALE:GREGORIAN
BEGIN:VEVENT
UID:4cfdcc25b02d55291f2422a009f28a4c
DTSTAMP:20260420T101541Z
SUMMARY:UJA Genesis presents Green Acres Day
DESCRIPTION:UJA Federation of Greater Toronto\nJewish Toronto Calendar\nhtt
 ps://jewishtoronto.com/calendar/uja-genesis-presents-green-acres-day-15603
 53302\n\nTBA
DTSTART;TZID=America/Toronto:20190825T090000
DTEND;TZID=America/Toronto:20190825T170000
END:VEVENT
END:VCALENDAR
