BEGIN:VCALENDAR
PRODID:-//eluceo/ical//2.0/EN
VERSION:2.0
CALSCALE:GREGORIAN
BEGIN:VEVENT
UID:b26295f13b24db0a5f509d366e590d9e
DTSTAMP:20260423T101102Z
SUMMARY:UJA Genesis & Educators: Empowering Educators Against Hate Webinar
DESCRIPTION:UJA Federation of Greater Toronto\nJewish Toronto Calendar\nhtt
 ps://jewishtoronto.com/calendar/uja-genesis-educators-empowering-educators
 -against-hate-webinar\n\nUJA Genesis and UJA's Professionals Division pres
 ent a webinar on Empowering Educators Against Hate: Creating a culture of
  respect in schools \n\n 
DTSTART;TZID=America/Toronto:20211215T193000
DTEND;TZID=America/Toronto:20211215T204500
END:VEVENT
END:VCALENDAR
