BEGIN:VCALENDAR
PRODID:-//eluceo/ical//2.0/EN
VERSION:2.0
CALSCALE:GREGORIAN
BEGIN:VEVENT
UID:8a6881e8d64c7ca2917564b24ec01e89
DTSTAMP:20260422T060534Z
SUMMARY:UJA Genesis: Dinner of Miracles
DESCRIPTION:UJA Federation of Greater Toronto\nJewish Toronto Calendar\nhtt
 ps://jewishtoronto.com/calendar/uja-genesis-dinner-of-miracles-1579017334\
 n\nDinner of Miracles
DTSTART;TZID=America/Toronto:20201214T180000
DTEND;TZID=America/Toronto:20201214T191500
END:VEVENT
END:VCALENDAR
