BEGIN:VCALENDAR
PRODID:-//eluceo/ical//2.0/EN
VERSION:2.0
CALSCALE:GREGORIAN
BEGIN:VEVENT
UID:6bd914be183f62528c40e5d0c1177753
DTSTAMP:20260426T013003Z
SUMMARY:UJA Genesis Crypto Event
DESCRIPTION:UJA Federation of Greater Toronto\nJewish Toronto Calendar\nhtt
 ps://jewishtoronto.com/calendar/uja-genesis-crypto-event-1551989531\n\nDem
 ystifying Cryptocurrency & Blockchain Technology.
DTSTART;TZID=America/Toronto:20190605T180000
DTEND;TZID=America/Toronto:20190605T210000
END:VEVENT
END:VCALENDAR
