BEGIN:VCALENDAR
PRODID:-//eluceo/ical//2.0/EN
VERSION:2.0
CALSCALE:GREGORIAN
BEGIN:VEVENT
UID:429f2d108454a2bd822ab0206143dfd8
DTSTAMP:20260422T013336Z
SUMMARY:UJA Genesis:  The Littlest Volunteer Big Day of Giving
DESCRIPTION:UJA Federation of Greater Toronto\nJewish Toronto Calendar\nhtt
 ps://jewishtoronto.com/calendar/uja-genesis\n\nTHE LITTLEST VOLUNTEER BIG 
 DAY OF GIVING – No Hunger for the Holidays Edition.\n\nLast year the Lit
 tlest Volunteer was a huge success\, with over 600 people coming out to le
 arn more about UJA\, our partners and how they can help. We are looking fo
 rward to doing it again! This year UJA is focused on a Rally for Recovery 
 a year where we will continue to help our neighbours in need around our 3 
 strategic priorities\, one of which is HUNGER in our community.\n\nWe are 
 thrilled to announce that we ...
DTSTART;TZID=America/Toronto:20211121T120000
DTEND;TZID=America/Toronto:20211121T170000
END:VEVENT
END:VCALENDAR
