BEGIN:VCALENDAR
PRODID:-//eluceo/ical//2.0/EN
VERSION:2.0
CALSCALE:GREGORIAN
BEGIN:VEVENT
UID:7fbc6271a9bf09f620333bcce9921b5c
DTSTAMP:20260424T132302Z
SUMMARY:UJA Foundation: Professional Advisory Committee U40 Event
DESCRIPTION:UJA Federation of Greater Toronto\nJewish Toronto Calendar\nhtt
 ps://jewishtoronto.com/calendar/uja-foundation-professional-advisory-commi
 ttee-u40-event-1576262826\n\nUJA Foundation: Professional Advisory Committ
 ee U40 Event
DTSTART;TZID=America/Toronto:20200211T170000
DTEND;TZID=America/Toronto:20200211T190000
END:VEVENT
END:VCALENDAR
