BEGIN:VCALENDAR
PRODID:-//eluceo/ical//2.0/EN
VERSION:2.0
CALSCALE:GREGORIAN
BEGIN:VEVENT
UID:ba1f6238383d1503e87268b3928fab00
DTSTAMP:20260421T172423Z
SUMMARY:UJA FOUNDATION | PAC Young Professional Event - Build Your Brand
DESCRIPTION:UJA Federation of Greater Toronto\nJewish Toronto Calendar\nhtt
 ps://jewishtoronto.com/calendar/uja-foundation-pac-young-professional-even
 t-build-your-brand\n\nPAC Young Professionals Event - Build Your Brand
DTSTART;TZID=America/Toronto:20251204T180000
DTEND;TZID=America/Toronto:20251204T200000
END:VEVENT
END:VCALENDAR
