BEGIN:VCALENDAR
PRODID:-//eluceo/ical//2.0/EN
VERSION:2.0
CALSCALE:GREGORIAN
BEGIN:VEVENT
UID:6ae7e5756d64d254bbc6b2e72b464945
DTSTAMP:20260422T094119Z
SUMMARY:UJA Federation | Mat Leave at the Museum
DESCRIPTION:UJA Federation of Greater Toronto\nJewish Toronto Calendar\nhtt
 ps://jewishtoronto.com/calendar/uja-federationsdfestrejuyio\n\nJoin the To
 ronto Holocaust Museum for an exclusive visit designed for parents and the
 ir babies. Explore the exhibits at your own pace\, with the flexibility to
  come and go as needed in an understanding environment. Delve into poignan
 t stories of survival\, resilience\, and hope told by Holocaust survivors 
 who made new lives in Canada. This unique experience offers a reflective j
 ourney through history\, providing a meaningful opportunity for parents to
  share while exploring the galleries in a comf...
DTSTART;TZID=America/Toronto:20240711T123000
DTEND;TZID=America/Toronto:20240711T140000
END:VEVENT
END:VCALENDAR
