BEGIN:VCALENDAR
PRODID:-//eluceo/ical//2.0/EN
VERSION:2.0
CALSCALE:GREGORIAN
BEGIN:VEVENT
UID:2f55d87b4a053adbb868ee2be9208a09
DTSTAMP:20260426T012116Z
SUMMARY:UJA Federation - Yom Hashoah Program for Young Professionals
DESCRIPTION:UJA Federation of Greater Toronto\nJewish Toronto Calendar\nhtt
 ps://jewishtoronto.com/calendar/uja-federation-yom-hashoah-program-for-you
 ng-professionals\n\nThis program offers a compelling opportunity for young
  professionals to learn and remember on Yom Hashoah.
DTSTART;TZID=America/Toronto:20160505T193000
DTEND;TZID=America/Toronto:20160505T213000
END:VEVENT
END:VCALENDAR
