BEGIN:VCALENDAR
PRODID:-//eluceo/ical//2.0/EN
VERSION:2.0
CALSCALE:GREGORIAN
BEGIN:VEVENT
UID:0c928a4bca2918c587d3da57e1c19899
DTSTAMP:20260426T003124Z
SUMMARY:UJA Federation Top Gifts Dinner 2016
DESCRIPTION:UJA Federation of Greater Toronto\nJewish Toronto Calendar\nhtt
 ps://jewishtoronto.com/calendar/uja-federation-top-gifts-dinner-2016\n\nUJ
 A Federation Top Gifts Dinner 2016\n\n 
DTSTART;TZID=America/Toronto:20160530T180000
DTEND;TZID=America/Toronto:20160530T213000
END:VEVENT
END:VCALENDAR
