BEGIN:VCALENDAR
PRODID:-//eluceo/ical//2.0/EN
VERSION:2.0
CALSCALE:GREGORIAN
BEGIN:VEVENT
UID:6a80674310de8fd25d715fe525828d07
DTSTAMP:20260422T165242Z
SUMMARY:UJA Federation | The Israelis: In Conversation with Yaron Deckel
DESCRIPTION:UJA Federation of Greater Toronto\nJewish Toronto Calendar\nhtt
 ps://jewishtoronto.com/calendar/uja-federation-the-israelis-in-conversatio
 n-with-yaron-deckel\n\nDetails to follow. 
DTSTART;TZID=America/Toronto:20220403T143000
DTEND;TZID=America/Toronto:20220403T163000
END:VEVENT
END:VCALENDAR
