BEGIN:VCALENDAR
PRODID:-//eluceo/ical//2.0/EN
VERSION:2.0
CALSCALE:GREGORIAN
BEGIN:VEVENT
UID:54ac4585ce65757806ed4da5dc3a2fb0
DTSTAMP:20260424T042126Z
SUMMARY:UJA Federation Spring PCC Meeting
DESCRIPTION:UJA Federation of Greater Toronto\nJewish Toronto Calendar\nhtt
 ps://jewishtoronto.com/calendar/uja-federation-spring-pcc-meeting\n\nSprin
 g PCC meeting\n\nLocation TBD
DTSTART;TZID=America/Toronto:20160412T163000
DTEND;TZID=America/Toronto:20160412T180000
END:VEVENT
END:VCALENDAR
