BEGIN:VCALENDAR
PRODID:-//eluceo/ical//2.0/EN
VERSION:2.0
CALSCALE:GREGORIAN
BEGIN:VEVENT
UID:fbc36509e8082a766d68361acc0207c0
DTSTAMP:20260422T041210Z
SUMMARY:UJA Federation Southern Hospitality Top Gifts Event 
DESCRIPTION:UJA Federation of Greater Toronto\nJewish Toronto Calendar\nhtt
 ps://jewishtoronto.com/calendar/uja-federation-southern-hospitality-top-gi
 fts-event\n\nTakes place in Florida\nUJA Federation Top Gifts donors.
DTSTART;TZID=America/Toronto:20160310T190000
DTEND;TZID=America/Toronto:20160310T213000
END:VEVENT
END:VCALENDAR
