BEGIN:VCALENDAR
PRODID:-//eluceo/ical//2.0/EN
VERSION:2.0
CALSCALE:GREGORIAN
BEGIN:VEVENT
UID:6cde7becafd43ecec6147426d533ae73
DTSTAMP:20260420T090147Z
SUMMARY:UJA Federation of Greater Toronto honours Ted & Liz Sokolsky
DESCRIPTION:UJA Federation of Greater Toronto\nJewish Toronto Calendar\nhtt
 ps://jewishtoronto.com/calendar/uja-federation-of-greater-toronto-honours-
 ted-liz-sokolsky\n\nUJA Federation of Greater Toronto invites you to honou
 r Ted & Liz Sokolsky for their extraordinary leadership and visionary acco
 mplishments\n\nPlease join us for a community celebration and dessert rece
 ption.\n\nEvening will include the dedication of the Ted and Liz Sokolsky 
 Community Square.\n\nEvent Chairs:  Bonnie Goldstein and Linda Waks.
DTSTART;TZID=America/Toronto:20150503T190000
DTEND;TZID=America/Toronto:20150503T213000
END:VEVENT
END:VCALENDAR
