BEGIN:VCALENDAR
PRODID:-//eluceo/ical//2.0/EN
VERSION:2.0
CALSCALE:GREGORIAN
BEGIN:VEVENT
UID:d35bb01d07457168c8f6be9014d11896
DTSTAMP:20260421T131750Z
SUMMARY:UJA Federation | March of the Living Info Session (Teen)
DESCRIPTION:UJA Federation of Greater Toronto\nJewish Toronto Calendar\nhtt
 ps://jewishtoronto.com/calendar/uja-federation-march-of-the-living-info-se
 ssion-teen\n\nDetails to follow. 
DTSTART;TZID=America/Toronto:20221012T183000
DTEND;TZID=America/Toronto:20221012T203000
END:VEVENT
END:VCALENDAR
