BEGIN:VCALENDAR
PRODID:-//eluceo/ical//2.0/EN
VERSION:2.0
CALSCALE:GREGORIAN
BEGIN:VEVENT
UID:b05eb33811dd9c4e1aaac78a7861c71e
DTSTAMP:20260420T012536Z
SUMMARY:UJA Federation | Jewish Teen Board Granting Ceremony
DESCRIPTION:UJA Federation of Greater Toronto\nJewish Toronto Calendar\nhtt
 ps://jewishtoronto.com/calendar/uja-federation-jewish-teen-board-granting-
 ceremony\n\nDetails to follow. 
DTSTART;TZID=America/Toronto:20220609T180000
DTEND;TZID=America/Toronto:20220609T210000
END:VEVENT
END:VCALENDAR
