BEGIN:VCALENDAR
PRODID:-//eluceo/ical//2.0/EN
VERSION:2.0
CALSCALE:GREGORIAN
BEGIN:VEVENT
UID:22094bd3785aa01579d7e8e8816fc88e
DTSTAMP:20260425T165132Z
SUMMARY:UJA Federation | HEW: TJFF Film - Farewell Mr. Haffmann
DESCRIPTION:UJA Federation of Greater Toronto\nJewish Toronto Calendar\nhtt
 ps://jewishtoronto.com/calendar/uja-federation-hew-tjff-film-farewell-mr-h
 affmann\n\nDetails to follow. 
DTSTART;TZID=America/Toronto:20221106T163000
DTEND;TZID=America/Toronto:20221106T183000
END:VEVENT
END:VCALENDAR
