BEGIN:VCALENDAR
PRODID:-//eluceo/ical//2.0/EN
VERSION:2.0
CALSCALE:GREGORIAN
BEGIN:VEVENT
UID:9338ba2ca624a086d90fe8fb5fab780a
DTSTAMP:20260422T041340Z
SUMMARY:UJA Federation | HEW: Lenka Lichtenberg's Theives of Dreams
DESCRIPTION:UJA Federation of Greater Toronto\nJewish Toronto Calendar\nhtt
 ps://jewishtoronto.com/calendar/uja-federation-hew-lenka-lichtenbergs-thei
 ves-of-dreams\n\nHolocaust Education Week presents Lenka Lichtenberg's Th
 eives of Dreams - Songs of Theresienstadt's Secret Photos.\n\nMore details
  to follow.
DTSTART;TZID=America/Toronto:20221110T000000
DTEND;TZID=America/Toronto:20221110T235959
END:VEVENT
END:VCALENDAR
