BEGIN:VCALENDAR
PRODID:-//eluceo/ical//2.0/EN
VERSION:2.0
CALSCALE:GREGORIAN
BEGIN:VEVENT
UID:0c4dccdb1266cdd8d03f409795a3a6f7
DTSTAMP:20260426T015342Z
SUMMARY:UJA Federation | HEW: Dialogue for Descendants
DESCRIPTION:UJA Federation of Greater Toronto\nJewish Toronto Calendar\nhtt
 ps://jewishtoronto.com/calendar/uja-federation-hew-dialogue-for-descendant
 s\n\nHolocaust Education Week presents Dialogue for Decendants 
DTSTART;TZID=America/Toronto:20221106T100000
DTEND;TZID=America/Toronto:20221106T120000
END:VEVENT
END:VCALENDAR
