BEGIN:VCALENDAR
PRODID:-//eluceo/ical//2.0/EN
VERSION:2.0
CALSCALE:GREGORIAN
BEGIN:VEVENT
UID:ac68212309a0f2052d71265ffd9a0ad7
DTSTAMP:20260422T022524Z
SUMMARY:UJA Federation | HEW: Animated Film + Charlotte Salmon
DESCRIPTION:UJA Federation of Greater Toronto\nJewish Toronto Calendar\nhtt
 ps://jewishtoronto.com/calendar/uja-federation-hew-animated-film--charlott
 e-salmon\n\nDetails to follow. 
DTSTART;TZID=America/Toronto:20221103T000000
DTEND;TZID=America/Toronto:20221103T235959
END:VEVENT
END:VCALENDAR
