BEGIN:VCALENDAR
PRODID:-//eluceo/ical//2.0/EN
VERSION:2.0
CALSCALE:GREGORIAN
BEGIN:VEVENT
UID:f9b75e83377cbf3274b5d8b3042da984
DTSTAMP:20260420T012526Z
SUMMARY:UJA Federation | Diller Teen Fellows Parten Only Night
DESCRIPTION:UJA Federation of Greater Toronto\nJewish Toronto Calendar\nhtt
 ps://jewishtoronto.com/calendar/uja-federation-diller-teen-fellows-parten-
 only-night\n\nDetails to follow. 
DTSTART;TZID=America/Toronto:20221207T200000
DTEND;TZID=America/Toronto:20221207T210000
END:VEVENT
END:VCALENDAR
