BEGIN:VCALENDAR
PRODID:-//eluceo/ical//2.0/EN
VERSION:2.0
CALSCALE:GREGORIAN
BEGIN:VEVENT
UID:43961aa8d74051eb71a52ffbcd67ef44
DTSTAMP:20260420T131858Z
SUMMARY:UJA Federation | Diller Teen Fellows Parent & Fellow ISS Orientatio
 n
DESCRIPTION:UJA Federation of Greater Toronto\nJewish Toronto Calendar\nhtt
 ps://jewishtoronto.com/calendar/uja-federation-diller-teen-fellows-parent-
 -fellow-iss-orientation\n\nDetails to follow. 
DTSTART;TZID=America/Toronto:20230607T000000
DTEND;TZID=America/Toronto:20230607T235959
END:VEVENT
END:VCALENDAR
