BEGIN:VCALENDAR
PRODID:-//eluceo/ical//2.0/EN
VERSION:2.0
CALSCALE:GREGORIAN
BEGIN:VEVENT
UID:b27171e882e12304f977374d3255600a
DTSTAMP:20260419T221756Z
SUMMARY:UJA Federation | Diller Teen Fellows Mifgash #4
DESCRIPTION:UJA Federation of Greater Toronto\nJewish Toronto Calendar\nhtt
 ps://jewishtoronto.com/calendar/uja-federation-diller-teen-fellows-mifgash
 4\n\nDetails to follow. 
DTSTART;TZID=America/Toronto:20221204T140000
DTEND;TZID=America/Toronto:20221204T180000
END:VEVENT
END:VCALENDAR
