BEGIN:VCALENDAR
PRODID:-//eluceo/ical//2.0/EN
VERSION:2.0
CALSCALE:GREGORIAN
BEGIN:VEVENT
UID:b851c218d30be4a9e46d7f176c462e99
DTSTAMP:20260425T165241Z
SUMMARY:UJA Federation | Diller Teen Fellows Mifgash #8
DESCRIPTION:UJA Federation of Greater Toronto\nJewish Toronto Calendar\nhtt
 ps://jewishtoronto.com/calendar/uja-federation-diller-teen-fellows-mifgash
 -8\n\nDiller Teen Fellows Mifgash #8 & Parent JCM Orientation. 
DTSTART;TZID=America/Toronto:20230312T120000
DTEND;TZID=America/Toronto:20230312T180000
END:VEVENT
END:VCALENDAR
