BEGIN:VCALENDAR
PRODID:-//eluceo/ical//2.0/EN
VERSION:2.0
CALSCALE:GREGORIAN
BEGIN:VEVENT
UID:5f18e1191a827aa37d0db839aedf869e
DTSTAMP:20260421T093849Z
SUMMARY:UJA Federation | Diller Teen Fellows Family Zoom with Eilat-Eilot
DESCRIPTION:UJA Federation of Greater Toronto\nJewish Toronto Calendar\nhtt
 ps://jewishtoronto.com/calendar/uja-federation-diller-teen-fellows-family-
 zoom-with-eilat-eilot\n\nDetails to follow. 
DTSTART;TZID=America/Toronto:20230305T120000
DTEND;TZID=America/Toronto:20230305T130000
END:VEVENT
END:VCALENDAR
