BEGIN:VCALENDAR
PRODID:-//eluceo/ical//2.0/EN
VERSION:2.0
CALSCALE:GREGORIAN
BEGIN:VEVENT
UID:2e0e2c7293acf1ab7281c77e751b33e9
DTSTAMP:20260421T221222Z
SUMMARY:UJA Federation Annual Campaign 2015 Executive Cabinet Meeting
DESCRIPTION:UJA Federation of Greater Toronto\nJewish Toronto Calendar\nhtt
 ps://jewishtoronto.com/calendar/uja-federation-annual-campaign-2015-execut
 ive-cabinet-meeting\n\nRoom:  Mezzanine\, 2nd Floor
DTSTART;TZID=America/Toronto:20141023T163000
DTEND;TZID=America/Toronto:20141023T180000
END:VEVENT
END:VCALENDAR
