BEGIN:VCALENDAR
PRODID:-//eluceo/ical//2.0/EN
VERSION:2.0
CALSCALE:GREGORIAN
BEGIN:VEVENT
UID:bbae7b781e8b2577455e615689a19faf
DTSTAMP:20260422T223405Z
SUMMARY:UJA Federation 37th HEW - 2nd Generation Symposium
DESCRIPTION:UJA Federation of Greater Toronto\nJewish Toronto Calendar\nhtt
 ps://jewishtoronto.com/calendar/uja-federation-37th-hew---2nd-generation-s
 ymposium-1481291593\n\nOne-day symposium for children of Holocaust Survivo
 rs
DTSTART;TZID=America/Toronto:20171105T093000
DTEND;TZID=America/Toronto:20171105T235959
END:VEVENT
END:VCALENDAR
