BEGIN:VCALENDAR
PRODID:-//eluceo/ical//2.0/EN
VERSION:2.0
CALSCALE:GREGORIAN
BEGIN:VEVENT
UID:faa2ff0a9b4a492862acafac7e4bd745
DTSTAMP:20260425T185057Z
SUMMARY:UJA Federation 2015 Awards Night
DESCRIPTION:UJA Federation of Greater Toronto\nJewish Toronto Calendar\nhtt
 ps://jewishtoronto.com/calendar/uja-federation-2015-awards-night-1\n\nUJA 
 Federation 2015 Awards Night
DTSTART;TZID=America/Toronto:20150610T180000
DTEND;TZID=America/Toronto:20150610T213000
END:VEVENT
END:VCALENDAR
