BEGIN:VCALENDAR
PRODID:-//eluceo/ical//2.0/EN
VERSION:2.0
CALSCALE:GREGORIAN
BEGIN:VEVENT
UID:d6ba2f345fc650c6955c26ba2cdc8611
DTSTAMP:20260421T172503Z
SUMMARY:UJA - Experience Jewish Life in Vienna
DESCRIPTION:UJA Federation of Greater Toronto\nJewish Toronto Calendar\nhtt
 ps://jewishtoronto.com/calendar/uja-experience-jewish-life-in-vienna\n\nEx
 perience Jewish Life in Vienna offers people between the ages of 22-36 a u
 nique opportunity to learn about the city's past\, experience its present\
 , and dialogue about the future.
DTSTART;TZID=America/Toronto:20160516T000000
DTEND;TZID=America/Toronto:20160523T000000
END:VEVENT
END:VCALENDAR
